BEGIN:VCALENDAR
VERSION:2.0
PRODID:-//Cosplay Aarhus - ECPv6.15.17.1//NONSGML v1.0//EN
CALSCALE:GREGORIAN
METHOD:PUBLISH
X-WR-CALNAME:Cosplay Aarhus
X-ORIGINAL-URL:https://cosplayaarhus.dk
X-WR-CALDESC:Begivenheder for Cosplay Aarhus
REFRESH-INTERVAL;VALUE=DURATION:PT1H
X-Robots-Tag:noindex
X-PUBLISHED-TTL:PT1H
BEGIN:VTIMEZONE
TZID:Europe/Paris
BEGIN:DAYLIGHT
TZOFFSETFROM:+0100
TZOFFSETTO:+0200
TZNAME:CEST
DTSTART:20240331T010000
END:DAYLIGHT
BEGIN:STANDARD
TZOFFSETFROM:+0200
TZOFFSETTO:+0100
TZNAME:CET
DTSTART:20241027T010000
END:STANDARD
BEGIN:DAYLIGHT
TZOFFSETFROM:+0100
TZOFFSETTO:+0200
TZNAME:CEST
DTSTART:20250330T010000
END:DAYLIGHT
BEGIN:STANDARD
TZOFFSETFROM:+0200
TZOFFSETTO:+0100
TZNAME:CET
DTSTART:20251026T010000
END:STANDARD
BEGIN:DAYLIGHT
TZOFFSETFROM:+0100
TZOFFSETTO:+0200
TZNAME:CEST
DTSTART:20260329T010000
END:DAYLIGHT
BEGIN:STANDARD
TZOFFSETFROM:+0200
TZOFFSETTO:+0100
TZNAME:CET
DTSTART:20261025T010000
END:STANDARD
END:VTIMEZONE
BEGIN:VEVENT
DTSTART;TZID=Europe/Paris:20250425T150000
DTEND;TZID=Europe/Paris:20250427T180000
DTSTAMP:20260419T131202
CREATED:20200504T181610Z
LAST-MODIFIED:20250412T231159Z
UID:1743-1745593200-1745776800@cosplayaarhus.dk
SUMMARY:Gamebox Festival 2025
DESCRIPTION:💜 Cosplay Aarhus til Gamebox Festival 2025! 💜\nGlæd jer\, for Cosplay Aarhus vender tilbage til Gamebox Festival i 2025 – og det bliver større og vildere end nogensinde før!Sæt kryds i kalenderen den 25.-27. april 2025\, og find vej til MCH Messecenter Herning\, hvor vi igen står klar med et fantastisk cosplayområde fyldt med sjove aktiviteter\, nørdet hygge og selvfølgelig vores populære Cosplay Craftsmanship-konkurrence! 🎭✨ \n🔧 Cosplay Craftsmanship Konkurrence – Lørdag d. 26. april kl. 17:30\nEr du stolt af dit håndværk og klar til at vise det frem for et publikum og et panel af dygtige dommere? Så er Craftsmanship-konkurrencen lige noget for dig! \nHer handler det om håndværk\, detaljer og kærligheden til cosplay-skabelsen – og der er vilde præmier på spil: \n🥇 1. plads: 3.000 kr.🥈 2. plads: 1.500 kr.🥉 3. plads: 500 kr. \n🎫 Deltag og få en GRATIS billet!\nAlle deltagere i konkurrencen modtager en gratis weekendbillet til Gamebox Festival 2025 – så du får hele festivaloplevelsen med i købet! 🙌 \n👉 Tilmeldingsfrist: 18. april 2025📥 Tilmelding og info:https://www.gameboxfestival.dk/aktiviteter/cosplay \n📬 Efter tilmelding sender Cosplay Aarhus en bekræftelsesmail – husk at tjekke din spam-mappe! \n📩 Spørgsmål? Kontakt os på:gamebox@cosplayaarhus.dk \n\n🧡 Cosplayområde i samarbejde med Warcrafters & Danish Garrison\nUdover konkurrencen kan du glæde dig til et kæmpe cosplayområde\, som vi skaber i samarbejde med de fantastiske folk fra Warcrafters og Danish Garrison – 501st Legion! \nVi kommer til at byde på: \n\n\nSjove quizzer og minigames \n\n\nMulighed for at møde og snakke med andre cosplayere \n\n\nChill-out zones og kreative aktiviteter \n\n\nMasser af hygge og nørderi hele weekenden! \n\n\nOm du er ny i cosplayverdenen eller garvet konkurrence-deltager\, så er Gamebox Festival 2025 stedet\, hvor vi fejrer fællesskabet\, kreativiteten og kærligheden til karakterer\, universer og godt håndværk. \nVi glæder os til at se dig i Herning – med eller uden kostume! 💜🎉
URL:https://cosplayaarhus.dk/event/madman-festival/
LOCATION:Messecenter Herning\, Vardevej 1\, Herning\, 7400\, Denmark
CATEGORIES:Cosplay,Upcoming Events
ATTACH;FMTTYPE=image/jpeg:https://cosplayaarhus.dk/wp-content/uploads/2020/05/gamebox.jpg
ORGANIZER;CN="Cosplay Aarhus":MAILTO:kontakt@cosplayaarhus.dk
END:VEVENT
END:VCALENDAR