BEGIN:VCALENDAR
VERSION:2.0
PRODID:-//Cosplay Aarhus - ECPv6.15.17.1//NONSGML v1.0//EN
CALSCALE:GREGORIAN
METHOD:PUBLISH
X-WR-CALNAME:Cosplay Aarhus
X-ORIGINAL-URL:https://cosplayaarhus.dk
X-WR-CALDESC:Begivenheder for Cosplay Aarhus
REFRESH-INTERVAL;VALUE=DURATION:PT1H
X-Robots-Tag:noindex
X-PUBLISHED-TTL:PT1H
BEGIN:VTIMEZONE
TZID:UTC
BEGIN:STANDARD
TZOFFSETFROM:+0000
TZOFFSETTO:+0000
TZNAME:UTC
DTSTART:20230101T000000
END:STANDARD
END:VTIMEZONE
BEGIN:VEVENT
DTSTART;TZID=UTC:20241210T080000
DTEND;TZID=UTC:20241227T150000
DTSTAMP:20260419T145757
CREATED:20241210T140943Z
LAST-MODIFIED:20241210T140943Z
UID:24602-1733817600-1735311600@cosplayaarhus.dk
SUMMARY:Cosplay Skøjtetur
DESCRIPTION:⛸️ Tag med Cosplay Aarhus i Skøjtehallen! ⛸️ \nEr du klar til at tilbringe en sjov og magisk eftermiddag mellem jul og nytår? Så kom og skøjtløb med Cosplay Aarhus\, når vi indtager Aarhus Skøjtehal til en hyggelig dag i fællesskabets tegn! \nHvad kan du glæde dig til? \n\nHyggelig atmosfære: Vi mødes alle på isen\, uanset om du er en erfaren skøjteprins/-prinsesse eller tager dine første forsigtige skridt på isen.\nSnacks og kage: Vi sørger for lidt sødt til ganen og varme drikke\, så du kan holde energien oppe.\nCosplay-faktor: Tag gerne dit Elsa-kostume eller din Jack Frost-frakke med for at skabe en eventyrlig stemning! Det er dog helt op til dig\, om du vil klæde dig ud eller blot dukke op i dit normale vintertøj.\n\nHusk at holde varmen!\nIsen er kold\, så sørg for at have hue\, handsker og gerne ekstra varme sokker på. Tag hellere for mange lag med end for få\, så du kan justere efter behov\, mens du suser rundt på skøjterne. \nPraktisk info:\nSted: Aarhus Skøjtehal\, Gøteborg Allé 9\, 8200 Aarhus N\nTid: Onsdag d. 27. december kl. 12.00-15.00 \nEntrépriser: \n\nBarn (3-14 år): 30 kr.\nUng (15-25 år): 35 kr.\nVoksen (26-66 år): 55 kr.\nSkøjteleje: 50 kr. pr. par\n\nHusk at trykke “Deltager” på Facebook-begivenheden inden jul\, så vi er sikre på at have nok snacks og drikkevarer til alle. På denne måde kan du hjælpe os med at skabe en skøn oplevelse for hele Cosplay Aarhus-fællesskabet. \nVi glæder os til at se dig på isen og skabe en uforglemmelig eftermiddag sammen!
URL:https://cosplayaarhus.dk/event/cosplay-skoejtetur/
LOCATION:Aarhus Skøjtehal\, Gøteborg Allé 9\, Aarhus N\, 8200\, Denmark
CATEGORIES:Upcoming Events
ATTACH;FMTTYPE=image/webp:https://cosplayaarhus.dk/wp-content/uploads/2024/12/iceskating.webp
ORGANIZER;CN="Cosplay Aarhus":MAILTO:kontakt@cosplayaarhus.dk
END:VEVENT
END:VCALENDAR