BEGIN:VCALENDAR
VERSION:2.0
PRODID:-//Cosplay Aarhus - ECPv6.15.17.1//NONSGML v1.0//EN
CALSCALE:GREGORIAN
METHOD:PUBLISH
X-WR-CALNAME:Cosplay Aarhus
X-ORIGINAL-URL:https://cosplayaarhus.dk
X-WR-CALDESC:Begivenheder for Cosplay Aarhus
REFRESH-INTERVAL;VALUE=DURATION:PT1H
X-Robots-Tag:noindex
X-PUBLISHED-TTL:PT1H
BEGIN:VTIMEZONE
TZID:UTC
BEGIN:STANDARD
TZOFFSETFROM:+0000
TZOFFSETTO:+0000
TZNAME:UTC
DTSTART:20230101T000000
END:STANDARD
END:VTIMEZONE
BEGIN:VEVENT
DTSTART;TZID=UTC:20240820T163000
DTEND;TZID=UTC:20240820T210000
DTSTAMP:20260419T163529
CREATED:20240729T075854Z
LAST-MODIFIED:20240729T080654Z
UID:24567-1724171400-1724187600@cosplayaarhus.dk
SUMMARY:Brætspilsaften med Prisma
DESCRIPTION:Cosplay Aarhus og Prisma holder fælles brætspilsaften \nPrisma er en forening i Aarhus\, hvis formål er at skabe et fælleskab\, hvor studerende og unge voksne kan samles om brætspil\, kreativt håndværk og bordrollespil \nCosplay Aarhus er en forening i Aarhus\, som laver events for alle interesserede inden for cosplay\, kreativt håndværk\, anime\, gaming\, brætspil og lignende \nVi er så glade for at invitere jer til en hyggelig aften med brætspil og fælleskab på tværs af vores to foreninger. Så tag dit mest behagelige tøj på\, (og evt dine heldige underbukser)\, kom og spil nogle brætspil med andre nørdede mennesker! \nTilmeld dig her: https://www.facebook.com/share/ga9pkYA9n5yVQGU4/
URL:https://cosplayaarhus.dk/event/braetspilsaften-med-prisma/
LOCATION:Gudrunsvej 80\, Gudrunsvej 80\, Aarhus\, 8220
CATEGORIES:Upcoming Events
ATTACH;FMTTYPE=image/png:https://cosplayaarhus.dk/wp-content/uploads/2024/07/braetspil.png
END:VEVENT
END:VCALENDAR